BEGIN:VCALENDAR
VERSION:2.0
PRODID:-//Squarespace Inc/Squarespace 6//v6//EN
BEGIN:VEVENT
UID:58ced077725e25717a3dbef6@squarespace.com
DTSTAMP:20170425T025427Z
DTSTART:20170513T030000Z
DTEND:20170513T050000Z
SUMMARY:Terrarium Workshop
GEO:-36.342596;174.731757
LOCATION:Barn Door\, 1168 Leigh Road\, Matakana\, Auckland\, 0985\, New Zea
 land
END:VEVENT
END:VCALENDAR
