BEGIN:VCALENDAR
VERSION:2.0
PRODID:-//Squarespace Inc/Squarespace 6//v6//EN
BEGIN:VEVENT
UID:58f969ecbebafbb895ee290a@squarespace.com
DTSTAMP:20170425T033208Z
DTSTART:20170508T204500Z
DTEND:20170509T033000Z
SUMMARY:Principals Well-Being Workshop
GEO:-36.342596;174.731757
LOCATION:Barn Door\, 1168 Leigh Road\, Matakana\, Auckland\, 0985\, New Zea
 land
END:VEVENT
END:VCALENDAR
